BEGIN:VCALENDAR
VERSION:2.0
PRODID:-//Adjust U - ECPv6.3.7//NONSGML v1.0//EN
CALSCALE:GREGORIAN
METHOD:PUBLISH
X-WR-CALNAME:Adjust U
X-ORIGINAL-URL:https://staging8.dynaserverx.com/adjust-u
X-WR-CALDESC:Events for Adjust U
REFRESH-INTERVAL;VALUE=DURATION:PT1H
X-Robots-Tag:noindex
X-PUBLISHED-TTL:PT1H
BEGIN:VTIMEZONE
TZID:America/Chicago
BEGIN:DAYLIGHT
TZOFFSETFROM:-0600
TZOFFSETTO:-0500
TZNAME:CDT
DTSTART:20220313T080000
END:DAYLIGHT
BEGIN:STANDARD
TZOFFSETFROM:-0500
TZOFFSETTO:-0600
TZNAME:CST
DTSTART:20221106T070000
END:STANDARD
BEGIN:DAYLIGHT
TZOFFSETFROM:-0600
TZOFFSETTO:-0500
TZNAME:CDT
DTSTART:20230312T080000
END:DAYLIGHT
BEGIN:STANDARD
TZOFFSETFROM:-0500
TZOFFSETTO:-0600
TZNAME:CST
DTSTART:20231105T070000
END:STANDARD
BEGIN:DAYLIGHT
TZOFFSETFROM:-0600
TZOFFSETTO:-0500
TZNAME:CDT
DTSTART:20240310T080000
END:DAYLIGHT
BEGIN:STANDARD
TZOFFSETFROM:-0500
TZOFFSETTO:-0600
TZNAME:CST
DTSTART:20241103T070000
END:STANDARD
END:VTIMEZONE
BEGIN:VEVENT
DTSTART;TZID=America/Chicago:20240224T090000
DTEND;TZID=America/Chicago:20240224T150000
DTSTAMP:20260424T134817
CREATED:20231127T150451Z
LAST-MODIFIED:20231127T150451Z
UID:10000369-1708765200-1708786800@staging8.dynaserverx.com
SUMMARY:Intro to Desk Adjusting - Dallas\, TX
DESCRIPTION:This course will introduce you to the skillsets needed to work as a Desk Adjuster. The class will focus on interpretation of policies and endorsements\, How to read a Declaration page\, the different software used as a Desk Adjuster (Xactimate\, Xactanalysis\, etc.)\, Various Carrier Guidelines\, and much more. Students will be able test their skills on mock estimates to see if maybe Desk Adjusting is the right path for them!
URL:https://staging8.dynaserverx.com/adjust-u/event/intro-to-desk-adjusting-dallas-tx-12-february24-2024/
LOCATION:Adjust U Campus\, 831 Greenview Dr.\, Grand Prairie\, TX\, 75050-2439\, United States
CATEGORIES:Dallas, TX,Intro to Desk Adjusting,Texas Adjuster,TX
ORGANIZER;CN="Adjust-U":MAILTO:info@staging8.dynaserverx.com
END:VEVENT
BEGIN:VEVENT
DTSTART;TZID=America/Chicago:20240203T090000
DTEND;TZID=America/Chicago:20240203T150000
DTSTAMP:20260424T134817
CREATED:20231124T142855Z
LAST-MODIFIED:20231124T142855Z
UID:10000366-1706950800-1706972400@staging8.dynaserverx.com
SUMMARY:Intro to Desk Adjusting - Dallas\, TX
DESCRIPTION:This course will introduce you to the skillsets needed to work as a Desk Adjuster. The class will focus on interpretation of policies and endorsements\, How to read a Declaration page\, the different software used as a Desk Adjuster (Xactimate\, Xactanalysis\, etc.)\, Various Carrier Guidelines\, and much more. Students will be able test their skills on mock estimates to see if maybe Desk Adjusting is the right path for them!
URL:https://staging8.dynaserverx.com/adjust-u/event/intro-to-desk-adjusting-dallas-tx-12-february-2024/
LOCATION:Adjust U Campus\, 831 Greenview Dr.\, Grand Prairie\, TX\, 75050-2439\, United States
CATEGORIES:Dallas, TX,Intro to Desk Adjusting,Texas Adjuster,TX
ORGANIZER;CN="Adjust-U":MAILTO:info@staging8.dynaserverx.com
END:VEVENT
BEGIN:VEVENT
DTSTART;TZID=America/Chicago:20231216T090000
DTEND;TZID=America/Chicago:20231216T150000
DTSTAMP:20260424T134817
CREATED:20230807T160632Z
LAST-MODIFIED:20231206T194210Z
UID:10000319-1702717200-1702738800@staging8.dynaserverx.com
SUMMARY:Intro to Desk Adjusting - Dallas\, TX
DESCRIPTION:This course will introduce you to the skillsets needed to work as a Desk Adjuster. The class will focus on interpretation of policies and endorsements\, How to read a Declaration page\, the different software used as a Desk Adjuster (Xactimate\, Xactanalysis\, etc.)\, Various Carrier Guidelines\, and much more. Students will be able test their skills on mock estimates to see if maybe Desk Adjusting is the right path for them!
URL:https://staging8.dynaserverx.com/adjust-u/event/intro-to-desk-adjusting-dallas-tx-11/
LOCATION:Adjust U Campus\, 831 Greenview Dr.\, Grand Prairie\, TX\, 75050-2439\, United States
CATEGORIES:Dallas, TX,Intro to Desk Adjusting
ATTACH;FMTTYPE=:
ORGANIZER;CN="Adjust-U":MAILTO:info@staging8.dynaserverx.com
END:VEVENT
BEGIN:VEVENT
DTSTART;TZID=America/Chicago:20231021T090000
DTEND;TZID=America/Chicago:20231021T150000
DTSTAMP:20260424T134817
CREATED:20230804T195329Z
LAST-MODIFIED:20231019T181238Z
UID:10000311-1697878800-1697900400@staging8.dynaserverx.com
SUMMARY:Intro to Desk Adjusting - Dallas\, TX
DESCRIPTION:This course will introduce you to the skillsets needed to work as a Desk Adjuster. The class will focus on interpretation of policies and endorsements\, How to read a Declaration page\, the different software used as a Desk Adjuster (Xactimate\, Xactanalysis\, etc.)\, Various Carrier Guidelines\, and much more. Students will be able test their skills on mock estimates to see if maybe Desk Adjusting is the right path for them!
URL:https://staging8.dynaserverx.com/adjust-u/event/intro-to-desk-adjusting-dallas-tx-10/
LOCATION:Adjust U Campus\, 831 Greenview Dr.\, Grand Prairie\, TX\, 75050-2439\, United States
CATEGORIES:Dallas, TX,Intro to Desk Adjusting
ATTACH;FMTTYPE=:
ORGANIZER;CN="Adjust-U":MAILTO:info@staging8.dynaserverx.com
END:VEVENT
BEGIN:VEVENT
DTSTART;TZID=America/Chicago:20231010T090000
DTEND;TZID=America/Chicago:20231010T150000
DTSTAMP:20260424T134817
CREATED:20230811T212639Z
LAST-MODIFIED:20230811T212639Z
UID:10000321-1696928400-1696950000@staging8.dynaserverx.com
SUMMARY:Intro to Desk Adjusting - Tampa\, FL
DESCRIPTION:This course will introduce you to the skillsets needed to work as a Desk Adjuster. The class will focus on interpretation of policies and endorsements\, How to read a Declaration page\, the different software used as a Desk Adjuster (Xactimate\, Xactanalysis\, etc.)\, Various Carrier Guidelines\, and much more. Students will be able test their skills on mock estimates to see if maybe Desk Adjusting is the right path for them!
URL:https://staging8.dynaserverx.com/adjust-u/event/intro-to-desk-adjusting-tampa-fl/
LOCATION:Hyatt Place Tampa\, 26000 Sierra Center Boulevard\, Lutz\, FL\, 33559\, United States
CATEGORIES:Florida,Intro to Desk Adjusting
ATTACH;FMTTYPE=:
ORGANIZER;CN="Adjust-U":MAILTO:info@staging8.dynaserverx.com
END:VEVENT
BEGIN:VEVENT
DTSTART;TZID=America/Chicago:20230819T090000
DTEND;TZID=America/Chicago:20230819T150000
DTSTAMP:20260424T134817
CREATED:20230221T162752Z
LAST-MODIFIED:20230413T181522Z
UID:10000221-1692435600-1692457200@staging8.dynaserverx.com
SUMMARY:Intro to Desk Adjusting - Dallas\, TX
DESCRIPTION:This course will introduce you to the skillsets needed to work as a Desk Adjuster. The class will focus on interpretation of policies and endorsements\, How to read a Declaration page\, the different software used as a Desk Adjuster (Xactimate\, Xactanalysis\, etc.)\, Various Carrier Guidelines\, and much more. Students will be able test their skills on mock estimates to see if maybe Desk Adjusting is the right path for them!
URL:https://staging8.dynaserverx.com/adjust-u/event/intro-to-desk-adjusting-dallas-tx-9/
LOCATION:Adjust U Campus\, 831 Greenview Dr.\, Grand Prairie\, TX\, 75050-2439\, United States
CATEGORIES:Dallas, TX,Intro to Desk Adjusting
ATTACH;FMTTYPE=:
ORGANIZER;CN="Adjust-U":MAILTO:info@staging8.dynaserverx.com
END:VEVENT
BEGIN:VEVENT
DTSTART;TZID=America/Chicago:20230722T090000
DTEND;TZID=America/Chicago:20230722T150000
DTSTAMP:20260424T134817
CREATED:20230221T160758Z
LAST-MODIFIED:20230413T180318Z
UID:10000215-1690016400-1690038000@staging8.dynaserverx.com
SUMMARY:Intro to Desk Adjusting - Dallas\, TX
DESCRIPTION:This course will introduce you to the skillsets needed to work as a Desk Adjuster. The class will focus on interpretation of policies and endorsements\, How to read a Declaration page\, the different software used as a Desk Adjuster (Xactimate\, Xactanalysis\, etc.)\, Various Carrier Guidelines\, and much more. Students will be able test their skills on mock estimates to see if maybe Desk Adjusting is the right path for them!
URL:https://staging8.dynaserverx.com/adjust-u/event/intro-to-desk-adjusting-dallas-tx-3/
LOCATION:Adjust U Campus\, 831 Greenview Dr.\, Grand Prairie\, TX\, 75050-2439\, United States
CATEGORIES:Dallas, TX,Intro to Desk Adjusting
ATTACH;FMTTYPE=:
ORGANIZER;CN="Adjust-U":MAILTO:info@staging8.dynaserverx.com
END:VEVENT
BEGIN:VEVENT
DTSTART;TZID=America/Chicago:20230617T090000
DTEND;TZID=America/Chicago:20230617T150000
DTSTAMP:20260424T134817
CREATED:20220831T152816Z
LAST-MODIFIED:20230413T180342Z
UID:10000201-1686992400-1687014000@staging8.dynaserverx.com
SUMMARY:Intro to Desk Adjusting - Dallas\, TX
DESCRIPTION:This course will introduce you to the skillsets needed to work as a Desk Adjuster. The class will focus on interpretation of policies and endorsements\, How to read a Declaration page\, the different software used as a Desk Adjuster (Xactimate\, Xactanalysis\, etc.)\, Various Carrier Guidelines\, and much more. Students will be able test their skills on mock estimates to see if maybe Desk Adjusting is the right path for them!
URL:https://staging8.dynaserverx.com/adjust-u/event/intro-to-desk-adjusting-dallas-tx-8/
LOCATION:Adjust U Campus\, 831 Greenview Dr.\, Grand Prairie\, TX\, 75050-2439\, United States
CATEGORIES:Dallas, TX,Intro to Desk Adjusting
ATTACH;FMTTYPE=:
ORGANIZER;CN="Adjust-U":MAILTO:info@staging8.dynaserverx.com
END:VEVENT
BEGIN:VEVENT
DTSTART;TZID=America/Chicago:20230506T090000
DTEND;TZID=America/Chicago:20230506T150000
DTSTAMP:20260424T134817
CREATED:20220831T152355Z
LAST-MODIFIED:20230413T180428Z
UID:10000200-1683363600-1683385200@staging8.dynaserverx.com
SUMMARY:Intro to Desk Adjusting - Dallas\, TX
DESCRIPTION:This course will introduce you to the skillsets needed to work as a Desk Adjuster. The class will focus on interpretation of policies and endorsements\, How to read a Declaration page\, the different software used as a Desk Adjuster (Xactimate\, Xactanalysis\, etc.)\, Various Carrier Guidelines\, and much more. Students will be able test their skills on mock estimates to see if maybe Desk Adjusting is the right path for them!
URL:https://staging8.dynaserverx.com/adjust-u/event/intro-to-desk-adjusting-dallas-tx-7/
LOCATION:Adjust U Campus\, 831 Greenview Dr.\, Grand Prairie\, TX\, 75050-2439\, United States
CATEGORIES:Dallas, TX,Intro to Desk Adjusting
ATTACH;FMTTYPE=:
ORGANIZER;CN="Adjust-U":MAILTO:info@staging8.dynaserverx.com
END:VEVENT
BEGIN:VEVENT
DTSTART;TZID=America/Chicago:20230505T090000
DTEND;TZID=America/Chicago:20230507T160000
DTSTAMP:20260424T134817
CREATED:20230428T151544Z
LAST-MODIFIED:20230503T201858Z
UID:10000264-1683277200-1683475200@staging8.dynaserverx.com
SUMMARY:Triple Play! A Three-Day Event Combining Putting the Puzzle Together\, Intro to Desk Adjusting\, & Open House – Dallas\, Texas
DESCRIPTION:This special offer is a Texas-sized deal for the person serious about doing adjusting as a career and doing it right! Essentially\, you will be paying for one class\, getting the second for $50\, and the BBQ Open House for $15. Putting the Puzzle Together is scheduled for Friday\, May 5th and Intro to Desk Adjusting is the next day from 9 AM to 3 PM. After two days of training\, we will be hosting a special three-hour crash course on life as a claims adjuster with fantastic Texas BBQ provided by Meat & Greet Barbecue! \nPutting the Puzzle Together – Packaging and Sending Claims\nBring Laptop downloaded with latest version of X1 to class. \nYou received your adjuster license\, you’ve learned Xactimate- Now what? One of the main struggles a new adjuster faces on their first deployment(s) is putting everything together. A claim is much more than just the Xactimate estimate- it is a package of documents you send the insurance carrier to justify the claim. This can include a Narrative (Sometimes referred to a GLR\, Final Report\, or First and Final)\, Billing (Either thru Xactimate or added documents)\, ITV (Insured to Value) Reports\, Photo Reports\, and much more. In addition\, the file must be documented throughout the life of a claim -if you do not document\, it did not happen. In addition to all of this\, we still must apply the estimate to policy. \nThis course will take you through the process of writing and packaging a claim from A to Z. \nAdditional Topics to be covered\n• Report Macros (Creating and Using)\n• Importing Tokened Documents\n• Importing/Exporting ESX files\n• Using Xactanalysis\n• Developing a routine\nA must have class for the new and/or inexperienced adjuster that would like to prepare for success for their first or next deployment! \nIntro to Desk Adjusting\nThis course will introduce you to the skillsets needed to work as a Desk Adjuster. The class will focus on interpretation of policies and endorsements\, How to read a Declaration page\, the different software used as a Desk Adjuster (Xactimate\, Xactanalysis\, etc.)\, Various Carrier Guidelines\, and much more. Students will be able test their skills on mock estimates to see if Desk Adjusting is the right path for them! \nLaunch Your Career Day!\n\nLearn what being a claims adjuster is all about\nLearn the steps to launching a career that pays many in excess of $100k per year\nLearn the various paths you can follow in the exciting world of claims adjusting\nLearn what it takes to succeed and excel as a claims adjuster\nMeet with the President and Vice President of Adjust U\, the premier adjuster training school\nHear from successful graduates of Adjust u talk about their career path\n\nLocation: 831 Greenview Dr\, Grand Prairie\, TX 75050\nTeacher: Jonathan Rice\, Director of Training & Development\, Adjust U\nSpeakere: Gene Strother\, President\, Adjust U
URL:https://staging8.dynaserverx.com/adjust-u/event/triple-dipper-a-three-day-excursion-combining-putting-the-puzzle-together-intro-to-desk-adjusting-open-house-dallas-texas-2/
LOCATION:Adjust U Campus\, 831 Greenview Dr.\, Grand Prairie\, TX\, 75050-2439\, United States
CATEGORIES:Dallas, TX,Intro to Desk Adjusting,Putting the Puzzle Together
ATTACH;FMTTYPE=image/jpeg:https://staging8.dynaserverx.com/adjust-u/wp-content/uploads/2023/04/triple-play-poster-1500-×-844-px.jpg
ORGANIZER;CN="Adjust-U":MAILTO:info@staging8.dynaserverx.com
END:VEVENT
BEGIN:VEVENT
DTSTART;TZID=America/Chicago:20230505T090000
DTEND;TZID=America/Chicago:20230506T150000
DTSTAMP:20260424T134817
CREATED:20230424T214532Z
LAST-MODIFIED:20230503T201942Z
UID:10000262-1683277200-1683385200@staging8.dynaserverx.com
SUMMARY:Combo Platter! A Two-Day Excursion Combining Putting the Puzzle Together & Intro to Desk Adjusting - Dallas\, Texas
DESCRIPTION:Putting the Puzzle Together is scheduled for Friday\, May 5th\, 2023 at our Grand Prairie\, Texas facility. Intro to Desk Adjusting is the next day. Each class is from 9 AM to 3 PM and each is $95. \nThis is your chance to buy one and get the other for just $50! We are offering the combo price of $145. \n  \nLocation: 831 Greenview Dr\, Grand Prairie\, TX 75050\nTeacher: Jonathan Rice\, Director of Training & Development\, Adjust U
URL:https://staging8.dynaserverx.com/adjust-u/event/combo-platter-a-two-day-excursion-combining-putting-the-puzzle-together-intro-to-desk-adjusting-dallas-texas-2/
LOCATION:Adjust U Campus\, 831 Greenview Dr.\, Grand Prairie\, TX\, 75050-2439\, United States
CATEGORIES:Dallas, TX,Intro to Desk Adjusting,Putting the Puzzle Together
ATTACH;FMTTYPE=:
ORGANIZER;CN="Adjust-U":MAILTO:info@staging8.dynaserverx.com
END:VEVENT
BEGIN:VEVENT
DTSTART;TZID=America/Chicago:20230401T090000
DTEND;TZID=America/Chicago:20230401T150000
DTSTAMP:20260424T134817
CREATED:20220831T152119Z
LAST-MODIFIED:20230330T141506Z
UID:10000199-1680339600-1680361200@staging8.dynaserverx.com
SUMMARY:Intro to Desk Adjusting - Dallas\, TX
DESCRIPTION:This course will introduce you to the skillsets needed to work as a Desk Adjuster. The class will focus on interpretation of policies and endorsements\, How to read a Declaration page\, the different software used as a Desk Adjuster (Xactimate\, Xactanalysis\, etc.)\, Various Carrier Guidelines\, and much more. Students will be able test their skills on mock estimates to see if maybe Desk Adjusting is the right path for them!
URL:https://staging8.dynaserverx.com/adjust-u/event/intro-to-desk-adjusting-dallas-tx-6/
LOCATION:Adjust U Campus\, 831 Greenview Dr.\, Grand Prairie\, TX\, 75050-2439\, United States
CATEGORIES:Dallas, TX,Intro to Desk Adjusting
ATTACH;FMTTYPE=:
ORGANIZER;CN="Adjust-U":MAILTO:info@staging8.dynaserverx.com
END:VEVENT
BEGIN:VEVENT
DTSTART;TZID=America/Chicago:20230331T090000
DTEND;TZID=America/Chicago:20230401T150000
DTSTAMP:20260424T134817
CREATED:20230329T135806Z
LAST-MODIFIED:20230329T135806Z
UID:10000255-1680253200-1680361200@staging8.dynaserverx.com
SUMMARY:Combo Platter! A Two-Day Excursion Combining Putting the Puzzle Together & Intro to Desk Adjusting - Dallas\, Texas
DESCRIPTION:Putting the Puzzle Together is scheduled for Friday\, March 31st\, 2023 at our Grand Prairie\, Texas facility. Intro to Desk Adjusting is the next day. Each class is from 9 AM to 3 PM and each is $95. \nThis is your chance to buy one and get the other for just $50! We are offering the combo price of $145. \n  \nLocation: 831 Greenview Dr\, Grand Prairie\, TX 75050\nTeacher: Jonathan Rice\, Director of Training & Development\, Adjust U
URL:https://staging8.dynaserverx.com/adjust-u/event/combo-platter-a-two-day-excursion-combining-putting-the-puzzle-together-intro-to-desk-adjusting-dallas-texas/
LOCATION:Adjust U Campus\, 831 Greenview Dr.\, Grand Prairie\, TX\, 75050-2439\, United States
CATEGORIES:Dallas, TX,Intro to Desk Adjusting,Putting the Puzzle Together,Texas Adjuster
ATTACH;FMTTYPE=:
ORGANIZER;CN="Adjust-U":MAILTO:info@staging8.dynaserverx.com
END:VEVENT
BEGIN:VEVENT
DTSTART;TZID=America/Chicago:20230325T090000
DTEND;TZID=America/Chicago:20230325T150000
DTSTAMP:20260424T134817
CREATED:20230112T145629Z
LAST-MODIFIED:20230327T131117Z
UID:10000209-1679734800-1679756400@staging8.dynaserverx.com
SUMMARY:Intro to Desk Adjusting - Houston\, TX
DESCRIPTION:This course will introduce you to the skillsets needed to work as a Desk Adjuster. The class will focus on interpretation of policies and endorsements\, How to read a Declaration page\, the different software used as a Desk Adjuster (Xactimate\, Xactanalysis\, etc.)\, Various Carrier Guidelines\, and much more. Students will be able test their skills on mock estimates to see if maybe Desk Adjusting is the right path for them!
URL:https://staging8.dynaserverx.com/adjust-u/event/intro-to-desk-adjusting-houston-tx/
LOCATION:Hilton Garden Inn – Houston\, TX\, 12245 Katy Freeway\, Houston\, TX\, 77079\, United States
CATEGORIES:Intro to Desk Adjusting
ATTACH;FMTTYPE=:
ORGANIZER;CN="Adjust-U":MAILTO:info@staging8.dynaserverx.com
END:VEVENT
BEGIN:VEVENT
DTSTART;TZID=America/Chicago:20230324T090000
DTEND;TZID=America/Chicago:20230325T150000
DTSTAMP:20260424T134817
CREATED:20230112T150431Z
LAST-MODIFIED:20230327T131158Z
UID:10000210-1679648400-1679756400@staging8.dynaserverx.com
SUMMARY:Combo Platter! A Two-Day Excursion Combining Putting the Puzzle Together & Intro to Desk Adjusting - Houston\, Texas
DESCRIPTION:Putting the Puzzle Together is scheduled for Friday\, August 19th\, 2023 at our Grand Prairie\, Texas facility. Intro to Desk Adjusting is the next day. Each class is from 9 AM to 3 PM and each is $95. \nThis is your chance to buy one and get the other for just $50! We offering the combo price of $145. \nATTENTION! This combo class is now 20% off.\nThis is the best value will encounter anywhere! For just $115\nClick HERE to get your ticket to this incredible two-day event taught by VP Jonathan Rice. \nLocation: 12245 Katy Freeway\, Houston\, TX\, 77079\nTeacher: Jonathan Rice\, Director of Training & Development\, Adjust U
URL:https://staging8.dynaserverx.com/adjust-u/event/combo-platter-a-two-day-excursion-combining-putting-the-puzzle-together-intro-to-desk-adjusting-houston-texas/
LOCATION:Hilton Garden Inn – Houston\, TX\, 12245 Katy Freeway\, Houston\, TX\, 77079\, United States
CATEGORIES:Intro to Desk Adjusting,Putting the Puzzle Together,Texas Adjuster
ATTACH;FMTTYPE=:
ORGANIZER;CN="Adjust-U":MAILTO:info@staging8.dynaserverx.com
END:VEVENT
BEGIN:VEVENT
DTSTART;TZID=America/Chicago:20230204T090000
DTEND;TZID=America/Chicago:20230204T150000
DTSTAMP:20260424T134817
CREATED:20220831T151236Z
LAST-MODIFIED:20230327T131407Z
UID:10000198-1675501200-1675522800@staging8.dynaserverx.com
SUMMARY:Intro to Desk Adjusting - Dallas\, TX
DESCRIPTION:This course will introduce you to the skillsets needed to work as a Desk Adjuster. The class will focus on interpretation of policies and endorsements\, How to read a Declaration page\, the different software used as a Desk Adjuster (Xactimate\, Xactanalysis\, etc.)\, Various Carrier Guidelines\, and much more. Students will be able test their skills on mock estimates to see if maybe Desk Adjusting is the right path for them!
URL:https://staging8.dynaserverx.com/adjust-u/event/intro-to-desk-adjusting-dallas-tx-5/
LOCATION:Adjust U Campus\, 831 Greenview Dr.\, Grand Prairie\, TX\, 75050-2439\, United States
CATEGORIES:Dallas, TX,Intro to Desk Adjusting
ATTACH;FMTTYPE=:
ORGANIZER;CN="Adjust-U":MAILTO:info@staging8.dynaserverx.com
END:VEVENT
BEGIN:VEVENT
DTSTART;TZID=America/Chicago:20221217T090000
DTEND;TZID=America/Chicago:20221217T150000
DTSTAMP:20260424T134817
CREATED:20220831T150752Z
LAST-MODIFIED:20230327T131420Z
UID:10000197-1671267600-1671289200@staging8.dynaserverx.com
SUMMARY:Intro to Desk Adjusting - Dallas\, TX
DESCRIPTION:This course will introduce you to the skillsets needed to work as a Desk Adjuster. The class will focus on interpretation of policies and endorsements\, How to read a Declaration page\, the different software used as a Desk Adjuster (Xactimate\, Xactanalysis\, etc.)\, Various Carrier Guidelines\, and much more. Students will be able test their skills on mock estimates to see if maybe Desk Adjusting is the right path for them!
URL:https://staging8.dynaserverx.com/adjust-u/event/intro-to-desk-adjusting-dallas-tx-4/
LOCATION:Adjust U Campus\, 831 Greenview Dr.\, Grand Prairie\, TX\, 75050-2439\, United States
CATEGORIES:Dallas, TX,Intro to Desk Adjusting
ATTACH;FMTTYPE=:
ORGANIZER;CN="Adjust-U":MAILTO:info@staging8.dynaserverx.com
END:VEVENT
END:VCALENDAR