BEGIN:VCALENDAR
VERSION:2.0
PRODID:-//Adjust U - ECPv6.3.7//NONSGML v1.0//EN
CALSCALE:GREGORIAN
METHOD:PUBLISH
X-WR-CALNAME:Adjust U
X-ORIGINAL-URL:https://staging8.dynaserverx.com/adjust-u
X-WR-CALDESC:Events for Adjust U
REFRESH-INTERVAL;VALUE=DURATION:PT1H
X-Robots-Tag:noindex
X-PUBLISHED-TTL:PT1H
BEGIN:VTIMEZONE
TZID:America/Chicago
BEGIN:DAYLIGHT
TZOFFSETFROM:-0600
TZOFFSETTO:-0500
TZNAME:CDT
DTSTART:20230312T080000
END:DAYLIGHT
BEGIN:STANDARD
TZOFFSETFROM:-0500
TZOFFSETTO:-0600
TZNAME:CST
DTSTART:20231105T070000
END:STANDARD
END:VTIMEZONE
BEGIN:VEVENT
DTSTART;TZID=America/Chicago:20231205T090000
DTEND;TZID=America/Chicago:20231205T150000
DTSTAMP:20260424T013159
CREATED:20231102T162459Z
LAST-MODIFIED:20231204T212335Z
UID:10000359-1701766800-1701788400@staging8.dynaserverx.com
SUMMARY:Master File Review - Mobile\, AL
DESCRIPTION:Although every part of the claims process is important leading to the successful closing of a claim\, many can argue that the File Reviewer’s role is the most important in the claims process as they are the Final Eyes when either approving or denying a claim. \nThis course will cover the differences between Policies\, Carrier Guidelines\, CMS (Claims Management Systems)\, and steps and tips on how to become an expert File Reviewer that will help you gain the skillset to confidently succeed as a File Reviewer! \n5 pending CE credits for AL\, FL\, and TX
URL:https://staging8.dynaserverx.com/adjust-u/event/master-file-review/
LOCATION:Mid-America Catastrophe Services –  Mobile\, AL Office\, 5550 Commerce Blvd. E.\, Mobile\, AL\, 36619+9204\, United States
CATEGORIES:Master File Review,Mobile, AL
ORGANIZER;CN="Adjust-U":MAILTO:info@staging8.dynaserverx.com
END:VEVENT
END:VCALENDAR