BEGIN:VCALENDAR
VERSION:2.0
PRODID:-//Adjust U - ECPv6.3.7//NONSGML v1.0//EN
CALSCALE:GREGORIAN
METHOD:PUBLISH
X-ORIGINAL-URL:https://staging8.dynaserverx.com/adjust-u
X-WR-CALDESC:Events for Adjust U
REFRESH-INTERVAL;VALUE=DURATION:PT1H
X-Robots-Tag:noindex
X-PUBLISHED-TTL:PT1H
BEGIN:VTIMEZONE
TZID:America/Chicago
BEGIN:DAYLIGHT
TZOFFSETFROM:-0600
TZOFFSETTO:-0500
TZNAME:CDT
DTSTART:20220313T080000
END:DAYLIGHT
BEGIN:STANDARD
TZOFFSETFROM:-0500
TZOFFSETTO:-0600
TZNAME:CST
DTSTART:20221106T070000
END:STANDARD
BEGIN:DAYLIGHT
TZOFFSETFROM:-0600
TZOFFSETTO:-0500
TZNAME:CDT
DTSTART:20230312T080000
END:DAYLIGHT
BEGIN:STANDARD
TZOFFSETFROM:-0500
TZOFFSETTO:-0600
TZNAME:CST
DTSTART:20231105T070000
END:STANDARD
END:VTIMEZONE
BEGIN:VEVENT
DTSTART;TZID=America/Chicago:20230507T130000
DTEND;TZID=America/Chicago:20230507T160000
DTSTAMP:20260424T044010
CREATED:20230426T150751Z
LAST-MODIFIED:20230504T140151Z
UID:10000265-1683464400-1683475200@staging8.dynaserverx.com
SUMMARY:Launch Your Career Day - Dallas\, TX
DESCRIPTION:LAUNCH YOUR CAREER DAY! \nAdjust U announces A special three-hour event hosted at our Grand Prairie\, Texas facility\, in the heart of Dallas/Fort Worth \n\nLearn what being a claims adjuster is all about\nLearn the steps to launching a career that pays many in excess of $100k per year\nLearn the various paths you can follow in the exciting world of claims adjusting\nLearn what it takes to succeed and excel as a claims adjuster\nMeet with the President and Vice President of Adjust U\, the premier adjuster training school\nHear from successful graduates of Adjust u talk about their career path\n\nCost is only $24.95 and includes… \nMeet & Greet \nMessages from industry leaders and former students \nA class taught jointly by Gene Strother (President\, Adjust U) & Jonathan Rice (VP\, Adjust U) \nA delicious Texas Barbecue meal provided by pit master Jim Carroll and his award-winning Meat & Greet Barbecue out of Arlington\, Texas
URL:https://staging8.dynaserverx.com/adjust-u/event/launch-your-career-day-dallas-tx/
LOCATION:Adjust U Campus\, 831 Greenview Dr.\, Grand Prairie\, TX\, 75050-2439\, United States
CATEGORIES:Texas Adjuster
ATTACH;FMTTYPE=image/png:https://staging8.dynaserverx.com/adjust-u/wp-content/uploads/2023/04/Black-and-Brown-Conference-Flyer.png
ORGANIZER;CN="Adjust-U":MAILTO:info@staging8.dynaserverx.com
END:VEVENT
BEGIN:VEVENT
DTSTART;TZID=America/Chicago:20230331T090000
DTEND;TZID=America/Chicago:20230401T150000
DTSTAMP:20260424T044010
CREATED:20230329T135806Z
LAST-MODIFIED:20230329T135806Z
UID:10000255-1680253200-1680361200@staging8.dynaserverx.com
SUMMARY:Combo Platter! A Two-Day Excursion Combining Putting the Puzzle Together & Intro to Desk Adjusting - Dallas\, Texas
DESCRIPTION:Putting the Puzzle Together is scheduled for Friday\, March 31st\, 2023 at our Grand Prairie\, Texas facility. Intro to Desk Adjusting is the next day. Each class is from 9 AM to 3 PM and each is $95. \nThis is your chance to buy one and get the other for just $50! We are offering the combo price of $145. \n  \nLocation: 831 Greenview Dr\, Grand Prairie\, TX 75050\nTeacher: Jonathan Rice\, Director of Training & Development\, Adjust U
URL:https://staging8.dynaserverx.com/adjust-u/event/combo-platter-a-two-day-excursion-combining-putting-the-puzzle-together-intro-to-desk-adjusting-dallas-texas/
LOCATION:Adjust U Campus\, 831 Greenview Dr.\, Grand Prairie\, TX\, 75050-2439\, United States
CATEGORIES:Dallas, TX,Intro to Desk Adjusting,Putting the Puzzle Together,Texas Adjuster
ATTACH;FMTTYPE=:
ORGANIZER;CN="Adjust-U":MAILTO:info@staging8.dynaserverx.com
END:VEVENT
BEGIN:VEVENT
DTSTART;TZID=America/Chicago:20230324T090000
DTEND;TZID=America/Chicago:20230325T150000
DTSTAMP:20260424T044010
CREATED:20230112T150431Z
LAST-MODIFIED:20230327T131158Z
UID:10000210-1679648400-1679756400@staging8.dynaserverx.com
SUMMARY:Combo Platter! A Two-Day Excursion Combining Putting the Puzzle Together & Intro to Desk Adjusting - Houston\, Texas
DESCRIPTION:Putting the Puzzle Together is scheduled for Friday\, August 19th\, 2023 at our Grand Prairie\, Texas facility. Intro to Desk Adjusting is the next day. Each class is from 9 AM to 3 PM and each is $95. \nThis is your chance to buy one and get the other for just $50! We offering the combo price of $145. \nATTENTION! This combo class is now 20% off.\nThis is the best value will encounter anywhere! For just $115\nClick HERE to get your ticket to this incredible two-day event taught by VP Jonathan Rice. \nLocation: 12245 Katy Freeway\, Houston\, TX\, 77079\nTeacher: Jonathan Rice\, Director of Training & Development\, Adjust U
URL:https://staging8.dynaserverx.com/adjust-u/event/combo-platter-a-two-day-excursion-combining-putting-the-puzzle-together-intro-to-desk-adjusting-houston-texas/
LOCATION:Hilton Garden Inn – Houston\, TX\, 12245 Katy Freeway\, Houston\, TX\, 77079\, United States
CATEGORIES:Intro to Desk Adjusting,Putting the Puzzle Together,Texas Adjuster
ATTACH;FMTTYPE=:
ORGANIZER;CN="Adjust-U":MAILTO:info@staging8.dynaserverx.com
END:VEVENT
BEGIN:VEVENT
DTSTART;TZID=America/Chicago:20221111T080000
DTEND;TZID=America/Chicago:20221113T180000
DTSTAMP:20260424T044010
CREATED:20221012T150526Z
LAST-MODIFIED:20230327T131602Z
UID:10000205-1668153600-1668362400@staging8.dynaserverx.com
SUMMARY:Texas Adjuster Pre-License Course
DESCRIPTION:It is here! The Texas pre-license course has come to Adjust U and we could not be more excited to offer this life-changing opportunity to you.  The Texas pre-license adjuster course is taught by Jonathan Rice\, an industry leader in adjuster training\, and is held at our state-of-the-art facility in Grand Prairie\, Texas\, just minutes from DFW International Airport and centrally located in the Dallas/Fort Worth Metroplex. This is a three-day course of intense study and learning designed to change the course of your life forever.   The exam will be given at the end of the course and we guarantee 100% success. \nBonus!\n \nEnjoy lunch with the President of Adjust U & Vice President of Mid-America Catastrophe Services on Friday\, November 11. Where else can you get a first-rate course\, your Texas license test\, and make important connections? Don’t just get yourself qualified to be a claims adjuster. Kickstart your career! \n 
URL:https://staging8.dynaserverx.com/adjust-u/event/texas-adjuster-pre-license-course/
LOCATION:Adjust U Campus\, 831 Greenview Dr.\, Grand Prairie\, TX\, 75050-2439\, United States
CATEGORIES:Dallas, TX,Texas Adjuster
ORGANIZER;CN="Adjust-U":MAILTO:info@staging8.dynaserverx.com
END:VEVENT
END:VCALENDAR