BEGIN:VCALENDAR
VERSION:2.0
PRODID:-//Adjust U - ECPv6.3.7//NONSGML v1.0//EN
CALSCALE:GREGORIAN
METHOD:PUBLISH
X-ORIGINAL-URL:https://staging8.dynaserverx.com/adjust-u
X-WR-CALDESC:Events for Adjust U
REFRESH-INTERVAL;VALUE=DURATION:PT1H
X-Robots-Tag:noindex
X-PUBLISHED-TTL:PT1H
BEGIN:VTIMEZONE
TZID:America/Chicago
BEGIN:DAYLIGHT
TZOFFSETFROM:-0600
TZOFFSETTO:-0500
TZNAME:CDT
DTSTART:20230312T080000
END:DAYLIGHT
BEGIN:STANDARD
TZOFFSETFROM:-0500
TZOFFSETTO:-0600
TZNAME:CST
DTSTART:20231105T070000
END:STANDARD
END:VTIMEZONE
BEGIN:VEVENT
DTSTART;TZID=America/Chicago:20230918T080000
DTEND;TZID=America/Chicago:20230919T160000
DTSTAMP:20260424T110608
CREATED:20230720T203905Z
LAST-MODIFIED:20231017T171705Z
UID:10000282-1695024000-1695139200@staging8.dynaserverx.com
SUMMARY:X1 Xactimate: Beginner to Advanced - Dallas\, Texas
DESCRIPTION:Proficiency in Xactimate is essential to most adjusters’ success. (Desk or Field). We have our Introduction to X1 class scheduled September 18-19\, 2023 in Dallas\, TX. Although the class will take you from the basics of X1\, don’t let the word Introduction in the title mislead you- even experienced users will benefit from the course. We limit our class size which allows us time to cover many advanced concepts of Xactimate. The course is taught by Xactware affiliate Level 3 certified trainer Jonathan Rice. Hope to see you in class! \nAL\, FL\, AND TX CE Credits available \nPrice of Course includes Xactimate’s Level 1 and Level 2 workbook. Hours of course are 8:00 – 4:00
URL:https://staging8.dynaserverx.com/adjust-u/event/x1-xactimate-beginner-to-advanced-dallas-texas-old2/
LOCATION:Adjust U Campus\, 831 Greenview Dr.\, Grand Prairie\, TX\, 75050-2439\, United States
CATEGORIES:Dallas, TX,Xactimate
ATTACH;FMTTYPE=:
ORGANIZER;CN="Adjust-U":MAILTO:info@staging8.dynaserverx.com
END:VEVENT
BEGIN:VEVENT
DTSTART;TZID=America/Chicago:20230830T080000
DTEND;TZID=America/Chicago:20230831T160000
DTSTAMP:20260424T110608
CREATED:20230221T163330Z
LAST-MODIFIED:20230417T143939Z
UID:10000216-1693382400-1693497600@staging8.dynaserverx.com
SUMMARY:X1 Xactimate: Beginner to Advanced - Orlando\, FL
DESCRIPTION:Proficiency in Xactimate is essential to most adjusters’ success. (Desk or Field). We have our Introduction to X1 class scheduled August30-31\, 2023 in Orlando\, FL. Although the class will take you from the basics of X1\, don’t let the word Introduction in the title mislead you- even experienced users will benefit from the course. We limit our class size which allows us time to cover many advanced concepts of Xactimate. The course is taught by Xactware affiliate Level 3 certified trainer Jonathan Rice. Hope to see you in class! \nAL\, FL\, AND TX CE Credits available \nPrice of Course includes Xactimate’s Level 1 and Level 2 workbook. Hours of course are 8:00 – 4:00
URL:https://staging8.dynaserverx.com/adjust-u/event/x1-xactimate-beginner-to-advanced-orlando-fl/2023-08-30/
LOCATION:Hyatt Place\, Lake Mary\, 1255 International Pkwy\, Lake Mary\, FL\, 32746\, United States
CATEGORIES:Florida,Xactimate
ATTACH;FMTTYPE=:
ORGANIZER;CN="Adjust-U":MAILTO:info@staging8.dynaserverx.com
END:VEVENT
BEGIN:VEVENT
DTSTART;TZID=America/Chicago:20230810T080000
DTEND;TZID=America/Chicago:20230811T160000
DTSTAMP:20260424T110608
CREATED:20230221T161754Z
LAST-MODIFIED:20230419T192307Z
UID:10000218-1691654400-1691769600@staging8.dynaserverx.com
SUMMARY:X1 Xactimate: Beginner to Advanced - Tampa\, FL
DESCRIPTION:Proficiency in Xactimate is essential to most adjusters’ success. (Desk or Field). We have our Introduction to X1 class scheduled August 10-11\, 2023 in Tampa\, FL. Although the class will take you from the basics of X1\, don’t let the word Introduction in the title mislead you- even experienced users will benefit from the course. We limit our class size which allows us time to cover many advanced concepts of Xactimate. The course is taught by Xactware affiliate Level 3 certified trainer Jonathan Rice. Hope to see you in class! \nAL\, FL\, AND TX CE Credits available \nPrice of Course includes Xactimate’s Level 1 and Level 2 workbook. Hours of course are 8:00 – 4:00
URL:https://staging8.dynaserverx.com/adjust-u/event/x1-xactimate-beginner-to-advanced-tampa-fl-2/
LOCATION:Hyatt Place Tampa\, 26000 Sierra Center Boulevard\, Lutz\, FL\, 33559\, United States
CATEGORIES:Florida,Xactimate
ATTACH;FMTTYPE=:
ORGANIZER;CN="Adjust-U":MAILTO:info@staging8.dynaserverx.com
END:VEVENT
BEGIN:VEVENT
DTSTART;TZID=America/Chicago:20230727T080000
DTEND;TZID=America/Chicago:20230728T160000
DTSTAMP:20260424T110608
CREATED:20230221T161342Z
LAST-MODIFIED:20230413T191520Z
UID:10000217-1690444800-1690560000@staging8.dynaserverx.com
SUMMARY:X1 Xactimate: Beginner to Advanced - Mobile\, AL
DESCRIPTION:Proficiency in Xactimate is essential to most adjusters’ success. (Desk or Field). We have our Introduction to X1 class scheduled July 27-28\, 2023 at our training facility in Mobile\, AL. Although the class will take you from the basics of X1\, don’t let the word Introduction in the title mislead you- even experienced users will benefit from the course. We limit our class size which allows us time to cover many advanced concepts of Xactimate. The course is taught by Xactware affiliate Level 3 certified trainer Jonathan Rice. Hope to see you in class! \nAL\, FL\, AND TX CE Credits available \nPrice of Course includes Xactimate’s Level 1 and Level 2 workbook. Hours of course are 8:00 – 4:00
URL:https://staging8.dynaserverx.com/adjust-u/event/x1-xactimate-beginner-to-advanced-mobile-al-5/
LOCATION:Mid-America Catastrophe Services –  Mobile\, AL Office\, 5550 Commerce Blvd. E.\, Mobile\, AL\, 36619+9204\, United States
CATEGORIES:Mobile, AL,Xactimate
ATTACH;FMTTYPE=:
ORGANIZER;CN="Adjust-U":MAILTO:info@staging8.dynaserverx.com
END:VEVENT
BEGIN:VEVENT
DTSTART;TZID=America/Chicago:20230706T080000
DTEND;TZID=America/Chicago:20230707T160000
DTSTAMP:20260424T110608
CREATED:20230609T185329Z
LAST-MODIFIED:20230630T185855Z
UID:10000273-1688630400-1688745600@staging8.dynaserverx.com
SUMMARY:X1 Xactimate: Beginner to Advanced - Orlando\, FL
DESCRIPTION:Proficiency in Xactimate is essential to most adjusters’ success. (Desk or Field). We have our Introduction to X1 class scheduled July 6-7\, 2023 in Orlando\, FL. Although the class will take you from the basics of X1\, don’t let the word Introduction in the title mislead you- even experienced users will benefit from the course. We limit our class size which allows us time to cover many advanced concepts of Xactimate. The course is taught by Xactware affiliate Level 3 certified trainer Jonathan Rice. Hope to see you in class! \nAL\, FL\, AND TX CE Credits available \nPrice of Course includes Xactimate’s Level 1 and Level 2 workbook. Hours of course are 8:00 – 4:00
URL:https://staging8.dynaserverx.com/adjust-u/event/x1-xactimate-beginner-to-advanced-orlando-fl-3/
LOCATION:Hyatt Place\, Lake Mary\, 1255 International Pkwy\, Lake Mary\, FL\, 32746\, United States
CATEGORIES:Florida,Xactimate
ATTACH;FMTTYPE=:
ORGANIZER;CN="Adjust-U":MAILTO:info@staging8.dynaserverx.com
END:VEVENT
BEGIN:VEVENT
DTSTART;TZID=America/Chicago:20230625T080000
DTEND;TZID=America/Chicago:20230626T160000
DTSTAMP:20260424T110608
CREATED:20230721T210214Z
LAST-MODIFIED:20230721T210312Z
UID:10000277-1687680000-1687795200@staging8.dynaserverx.com
SUMMARY:X1 Xactimate: Beginner to Advanced - Austin\, TX
DESCRIPTION:Proficiency in Xactimate is essential to most adjusters’ success. (Desk or Field). We have our Introduction to X1 class scheduled September 25-26\, 2023 at the Residence Inn. Although the class will take you from the basics of X1\, don’t let the word Introduction in the title mislead you- even experienced users will benefit from the course. We limit our class size which allows us time to cover many advanced concepts of Xactimate. The course is taught by Xactware affiliate Level 3 certified trainer Jonathan Rice. Hope to see you in class! \nAL\, FL\, AND TX CE Credits available \nPrice of Course includes Xactimate’s Level 1 and Level 2 workbook. Hours of course are 8:00 – 4:00
URL:https://staging8.dynaserverx.com/adjust-u/event/x1-xactimate-beginner-to-advanced-austin-tx/
LOCATION:Residence Inn\, 3201 Caseybridge Court\, Austin\, 78744
CATEGORIES:Mobile, AL,Xactimate
ATTACH;FMTTYPE=:
ORGANIZER;CN="Adjust-U":MAILTO:info@staging8.dynaserverx.com
END:VEVENT
BEGIN:VEVENT
DTSTART;TZID=America/Chicago:20230608T080000
DTEND;TZID=America/Chicago:20230609T160000
DTSTAMP:20260424T110608
CREATED:20230523T194037Z
LAST-MODIFIED:20230523T211739Z
UID:10000266-1686211200-1686326400@staging8.dynaserverx.com
SUMMARY:X1 Xactimate: Beginner to Advanced - Mobile\, AL
DESCRIPTION:Proficiency in Xactimate is essential to most adjusters’ success. (Desk or Field). We have our Introduction to X1 class scheduled June 8-9\, 2023 at our training facility in Mobile\, AL. Although the class will take you from the basics of X1\, don’t let the word Introduction in the title mislead you- even experienced users will benefit from the course. We limit our class size which allows us time to cover many advanced concepts of Xactimate. The course is taught by Xactware affiliate Level 3 certified trainer Jonathan Rice. Hope to see you in class! \nAL\, FL\, AND TX CE Credits available \nPrice of Course includes Xactimate’s Level 1 and Level 2 workbook. Hours of course are 8:00 – 4:00
URL:https://staging8.dynaserverx.com/adjust-u/event/x1-xactimate-beginner-to-advanced-mobile-al-6/
LOCATION:Mid-America Catastrophe Services –  Mobile\, AL Office\, 5550 Commerce Blvd. E.\, Mobile\, AL\, 36619+9204\, United States
CATEGORIES:Mobile, AL,Xactimate
ATTACH;FMTTYPE=:
ORGANIZER;CN="Adjust-U":MAILTO:info@staging8.dynaserverx.com
END:VEVENT
BEGIN:VEVENT
DTSTART;TZID=America/Chicago:20230515T080000
DTEND;TZID=America/Chicago:20230516T160000
DTSTAMP:20260424T110608
CREATED:20230221T153850Z
LAST-MODIFIED:20230419T192004Z
UID:10000213-1684137600-1684252800@staging8.dynaserverx.com
SUMMARY:X1 Xactimate: Beginner to Advanced - Tampa\, FL
DESCRIPTION:Proficiency in Xactimate is essential to most adjusters’ success. (Desk or Field). We have our Introduction to X1 class scheduled May 15-16\, 2023 in Tampa\, FL. Although the class will take you from the basics of X1\, don’t let the word Introduction in the title mislead you- even experienced users will benefit from the course. We limit our class size which allows us time to cover many advanced concepts of Xactimate. The course is taught by Xactware affiliate Level 3 certified trainer Jonathan Rice. Hope to see you in class! \nAL\, FL\, AND TX CE Credits available \nPrice of Course includes Xactimate’s Level 1 and Level 2 workbook. Hours of course are 8:00 – 4:00
URL:https://staging8.dynaserverx.com/adjust-u/event/x1-xactimate-beginner-to-advanced-tampa-fl/
LOCATION:Hyatt Place Tampa\, 26000 Sierra Center Boulevard\, Lutz\, FL\, 33559\, United States
CATEGORIES:Florida,Xactimate
ATTACH;FMTTYPE=:
ORGANIZER;CN="Adjust-U":MAILTO:info@staging8.dynaserverx.com
END:VEVENT
BEGIN:VEVENT
DTSTART;TZID=America/Chicago:20230420T080000
DTEND;TZID=America/Chicago:20230421T160000
DTSTAMP:20260424T110608
CREATED:20230221T163851Z
LAST-MODIFIED:20230417T143629Z
UID:10000222-1681977600-1682092800@staging8.dynaserverx.com
SUMMARY:X1 Xactimate: Beginner to Advanced - Orlando\, FL
DESCRIPTION:Proficiency in Xactimate is essential to most adjusters’ success. (Desk or Field). We have our Introduction to X1 class scheduled April 20-21\, 2023 in Orlando\, FL. Although the class will take you from the basics of X1\, don’t let the word Introduction in the title mislead you- even experienced users will benefit from the course. We limit our class size which allows us time to cover many advanced concepts of Xactimate. The course is taught by Xactware affiliate Level 3 certified trainer Jonathan Rice. Hope to see you in class! \nAL\, FL\, AND TX CE Credits available \nPrice of Course includes Xactimate’s Level 1 and Level 2 workbook. Hours of course are 8:00 – 4:00
URL:https://staging8.dynaserverx.com/adjust-u/event/x1-xactimate-beginner-to-advanced-orlando-fl-2/
LOCATION:Hyatt Place\, Lake Mary\, 1255 International Pkwy\, Lake Mary\, FL\, 32746\, United States
CATEGORIES:Florida,Xactimate
ATTACH;FMTTYPE=:
ORGANIZER;CN="Adjust-U":MAILTO:info@staging8.dynaserverx.com
END:VEVENT
BEGIN:VEVENT
DTSTART;TZID=America/Chicago:20230414T080000
DTEND;TZID=America/Chicago:20230415T160000
DTSTAMP:20260424T110608
CREATED:20220831T163406Z
LAST-MODIFIED:20230413T191920Z
UID:10000204-1681459200-1681574400@staging8.dynaserverx.com
SUMMARY:X1 Xactimate: Beginner to Advanced - Mobile\, AL
DESCRIPTION:Proficiency in Xactimate is essential to most adjusters’ success. (Desk or Field). We have our Introduction to X1 class scheduled April 14-15\, 2023 at our training facility in Mobile\, AL. Although the class will take you from the basics of X1\, don’t let the word Introduction in the title mislead you- even experienced users will benefit from the course. We limit our class size which allows us time to cover many advanced concepts of Xactimate. The course is taught by Xactware affiliate Level 3 certified trainer Jonathan Rice. Hope to see you in class! \nAL\, FL\, AND TX CE Credits available \nPrice of Course includes Xactimate’s Level 1 and Level 2 workbook. Hours of course are 8:00 – 4:00
URL:https://staging8.dynaserverx.com/adjust-u/event/x1-xactimate-beginner-to-advanced-mobile-al-4/
LOCATION:Mid-America Catastrophe Services –  Mobile\, AL Office\, 5550 Commerce Blvd. E.\, Mobile\, AL\, 36619+9204\, United States
CATEGORIES:Mobile, AL,Xactimate
ATTACH;FMTTYPE=:
ORGANIZER;CN="Adjust-U":MAILTO:info@staging8.dynaserverx.com
END:VEVENT
END:VCALENDAR