BEGIN:VCALENDAR
VERSION:2.0
PRODID:-//Adjust U - ECPv6.3.7//NONSGML v1.0//EN
CALSCALE:GREGORIAN
METHOD:PUBLISH
X-ORIGINAL-URL:https://staging8.dynaserverx.com/adjust-u
X-WR-CALDESC:Events for Adjust U
REFRESH-INTERVAL;VALUE=DURATION:PT1H
X-Robots-Tag:noindex
X-PUBLISHED-TTL:PT1H
BEGIN:VTIMEZONE
TZID:America/Chicago
BEGIN:DAYLIGHT
TZOFFSETFROM:-0600
TZOFFSETTO:-0500
TZNAME:CDT
DTSTART:20220313T080000
END:DAYLIGHT
BEGIN:STANDARD
TZOFFSETFROM:-0500
TZOFFSETTO:-0600
TZNAME:CST
DTSTART:20221106T070000
END:STANDARD
END:VTIMEZONE
BEGIN:VEVENT
DTSTART;TZID=America/Chicago:20220921T130000
DTEND;TZID=America/Chicago:20220921T160000
DTSTAMP:20260425T093151
CREATED:20220825T192444Z
LAST-MODIFIED:20220825T192444Z
UID:10000188-1663765200-1663776000@staging8.dynaserverx.com
SUMMARY:The Great Mid-America Roadshow: Xactimate® X1 Training & Networking Event
DESCRIPTION:The Great Mid-America Roadshow is coming your way! On Wednesday\, September 21\, 2022\, Vice President Gene Strother and Director of Training Jonathan Rice will host an X1 Proficiency training course and a meet-and-greet complete with snacks and drinks. The meeting time is 1 PM – 4 PM. The two-hour Xactimate class with Xactimate Affiliate Trainer Rice is 1-3 PM\, and will include two Texas CE hours. \nJonathan Rice is one of the insurance industry’s best trainers. You will benefit from his class. Gene Strother will bring you up to speed on the exciting things happening at Mid-America Catastrophe and share with you how to partner with one of the most exciting independent adjusting firms in the nation during this and future storm seasons. Whether you are a field or desk adjuster\, seasoned or beginner\, you will benefit from these power-packed three hours of instruction\, insight\, and information. \nThe cost for the class is just $29 and includes the food and drink. We will host the event at Residence Inn by Marriott Dayton Vandalia\, 7227 York Center Dr\, Dayton\, OH 45414  (937) 890-2244 \nSeating is limited. Reserve your spot now! \nNOTICE: With limited seating\, refunds are available up to 48 hours before the event.
URL:https://staging8.dynaserverx.com/adjust-u/event/the-great-mid-america-roadshow-an-xactimate-x1-training-networking-event-2/
LOCATION:7227 York Center Drive\, Dayton\, OH 45414\, 7227 York Center Drive\, Dayton\, OH\, 45414\, United States
ATTACH;FMTTYPE=:
ORGANIZER;CN="Adjust-U":MAILTO:info@staging8.dynaserverx.com
END:VEVENT
END:VCALENDAR