BEGIN:VCALENDAR
VERSION:2.0
PRODID:-//Adjust U - ECPv6.3.7//NONSGML v1.0//EN
CALSCALE:GREGORIAN
METHOD:PUBLISH
X-WR-CALNAME:Adjust U
X-ORIGINAL-URL:https://staging8.dynaserverx.com/adjust-u
X-WR-CALDESC:Events for Adjust U
REFRESH-INTERVAL;VALUE=DURATION:PT1H
X-Robots-Tag:noindex
X-PUBLISHED-TTL:PT1H
BEGIN:VTIMEZONE
TZID:America/New_York
BEGIN:DAYLIGHT
TZOFFSETFROM:-0500
TZOFFSETTO:-0400
TZNAME:EDT
DTSTART:20230312T070000
END:DAYLIGHT
BEGIN:STANDARD
TZOFFSETFROM:-0400
TZOFFSETTO:-0500
TZNAME:EST
DTSTART:20231105T060000
END:STANDARD
TZID:America/Chicago
BEGIN:DAYLIGHT
TZOFFSETFROM:-0600
TZOFFSETTO:-0500
TZNAME:CDT
DTSTART:20220313T080000
END:DAYLIGHT
BEGIN:STANDARD
TZOFFSETFROM:-0500
TZOFFSETTO:-0600
TZNAME:CST
DTSTART:20221106T070000
END:STANDARD
BEGIN:DAYLIGHT
TZOFFSETFROM:-0600
TZOFFSETTO:-0500
TZNAME:CDT
DTSTART:20230312T080000
END:DAYLIGHT
BEGIN:STANDARD
TZOFFSETFROM:-0500
TZOFFSETTO:-0600
TZNAME:CST
DTSTART:20231105T070000
END:STANDARD
END:VTIMEZONE
BEGIN:VEVENT
DTSTART;TZID=America/New_York:20231029T090000
DTEND;TZID=America/New_York:20231029T160000
DTSTAMP:20260424T145819
CREATED:20231013T131730Z
LAST-MODIFIED:20231019T181728Z
UID:10000339-1698570000-1698595200@staging8.dynaserverx.com
SUMMARY:FAA Part 107 Remote Pilot Test Prep Course – Orlando\, Florida
DESCRIPTION:Get your Drone License!  This course will prepare you to pass the FAA 107 Drone Pilot Test. \nLet Adjust U prepare you for FAA 107 Certification Test\nOver the last few years\, the usage of Drones has grown tremendously in multiple industries including real estate\, construction\, agriculture\, e-commerce\, utilities\, media\, and insurance. To fly a drone for any reason that is considered nonrecreational\, you must possess a FAA 107 license that demonstrates that you understand the regulations\, operating requirements\, and procedures for safely flying drones. Non-recreational purposes include things like taking photos to help sell a property or service\, roof inspections\, or taking pictures of a high school football game for the school’s website. The FAA and local governments can and have levied steep fines for individuals who are caught flying a drone for commercial purposes without a license. Let Adjust U prepare you to pass your FAA 107 certification test! Our FAA 107 Licensed Drone instructors are seasoned educators and will help you get your license with our 1 day in person course!\nSome of the topics covered in the course: \n\nThe interpretation of charts and weather reports\nUncontrolled and Controlled Airspace\nAirspace Designations\nWeather Patterns and effect on aircraft\nUnderstanding Load Factors\nCrew Resource Management\n\nand much more. The course includes hundreds of sample questions! \nHot summer deal! Only $129 (originally $175)
URL:https://staging8.dynaserverx.com/adjust-u/event/faa-part-107-remote-pilot-test-prep-course-orlando-florida/
LOCATION:Hyatt Place\, Lake Mary\, 1255 International Pkwy\, Lake Mary\, FL\, 32746\, United States
CATEGORIES:Drone FAA 107 Certification,Florida
ORGANIZER;CN="Adjust-U":MAILTO:info@staging8.dynaserverx.com
END:VEVENT
BEGIN:VEVENT
DTSTART;TZID=America/Chicago:20231028T090000
DTEND;TZID=America/Chicago:20231028T150000
DTSTAMP:20260424T145819
CREATED:20230815T194036Z
LAST-MODIFIED:20231020T135126Z
UID:10000327-1698483600-1698505200@staging8.dynaserverx.com
SUMMARY:Putting the Puzzle Together - Packaging and Sending Claims- Orlando\, FL
DESCRIPTION:Bring Laptop downloaded with latest version of X1 to class. \nYou received your adjuster license\, you’ve learned Xactimate- Now what? One of the main struggles a new adjuster faces on their first deployment(s) is putting everything together. A claim is much more than just the Xactimate estimate- it is a package of documents you send the insurance carrier to justify the claim. This can include a Narrative (Sometimes referred to a GLR\, Final Report\, or First and Final)\, Billing (Either thru Xactimate or added documents)\, ITV (Insured to Value) Reports\, Photo Reports\, and much more. In addition\, the file must be documented throughout the life of a claim -if you do not document\, it did not happen. In addition to all of this\, we still must apply the estimate to policy.\nThis course will take you through the process of writing and packaging a claim from A to Z.\nAdditional Topics to be covered\n• Report Macros (Creating and Using)\n• Importing Tokened Documents\n• Importing/Exporting ESX files\n• Using Xactanalysis\n• Developing a routine\nA must have class for the new and/or inexperienced adjuster that would like to prepare for success for their first or next deployment! \n\n\n\nInstructions\n\nPlease contact jonathan@staging8.dynaserverx.com with any questions. \nClass Time is 9:00 – 3:00 PM.
URL:https://staging8.dynaserverx.com/adjust-u/event/putting-the-puzzle-together-packaging-and-sending-claims-orlando-fl/
LOCATION:Hyatt Place\, Lake Mary\, 1255 International Pkwy\, Lake Mary\, FL\, 32746\, United States
CATEGORIES:Dallas, TX,Putting the Puzzle Together
ATTACH;FMTTYPE=:
ORGANIZER;CN="Adjust-U":MAILTO:info@staging8.dynaserverx.com
END:VEVENT
BEGIN:VEVENT
DTSTART;TZID=America/Chicago:20231026T080000
DTEND;TZID=America/Chicago:20231027T160000
DTSTAMP:20260424T145819
CREATED:20230815T193006Z
LAST-MODIFIED:20231019T193322Z
UID:10000325-1698307200-1698422400@staging8.dynaserverx.com
SUMMARY:X1 Xactimate: Beginner to Advanced - Orlando\, FL
DESCRIPTION:Proficiency in Xactimate is essential to most adjusters’ success. (Desk or Field). We have our Introduction to X1 class scheduled October 26 & 27 in Orlando\, FL. Although the class will take you from the basics of X1\, don’t let the word Introduction in the title mislead you- even experienced users will benefit from the course. We limit our class size which allows us time to cover many advanced concepts of Xactimate. The course is taught by Xactware affiliate Level 3 certified trainer Jonathan Rice. Hope to see you in class! \nAL\, FL\, AND TX CE Credits available \nPrice of Course includes Xactimate’s Level 1 and Level 2 workbook. Hours of course are 8:00 – 4:00
URL:https://staging8.dynaserverx.com/adjust-u/event/x1-xactimate-beginner-to-advanced-orlando-fl-4/
LOCATION:Hyatt Place\, Lake Mary\, 1255 International Pkwy\, Lake Mary\, FL\, 32746\, United States
CATEGORIES:Florida,Xactimate
ATTACH;FMTTYPE=:
ORGANIZER;CN="Adjust-U":MAILTO:info@staging8.dynaserverx.com
END:VEVENT
BEGIN:VEVENT
DTSTART;TZID=America/Chicago:20230830T080000
DTEND;TZID=America/Chicago:20230831T160000
DTSTAMP:20260424T145819
CREATED:20230221T163330Z
LAST-MODIFIED:20230417T143939Z
UID:10000216-1693382400-1693497600@staging8.dynaserverx.com
SUMMARY:X1 Xactimate: Beginner to Advanced - Orlando\, FL
DESCRIPTION:Proficiency in Xactimate is essential to most adjusters’ success. (Desk or Field). We have our Introduction to X1 class scheduled August30-31\, 2023 in Orlando\, FL. Although the class will take you from the basics of X1\, don’t let the word Introduction in the title mislead you- even experienced users will benefit from the course. We limit our class size which allows us time to cover many advanced concepts of Xactimate. The course is taught by Xactware affiliate Level 3 certified trainer Jonathan Rice. Hope to see you in class! \nAL\, FL\, AND TX CE Credits available \nPrice of Course includes Xactimate’s Level 1 and Level 2 workbook. Hours of course are 8:00 – 4:00
URL:https://staging8.dynaserverx.com/adjust-u/event/x1-xactimate-beginner-to-advanced-orlando-fl/2023-08-30/
LOCATION:Hyatt Place\, Lake Mary\, 1255 International Pkwy\, Lake Mary\, FL\, 32746\, United States
CATEGORIES:Florida,Xactimate
ATTACH;FMTTYPE=:
ORGANIZER;CN="Adjust-U":MAILTO:info@staging8.dynaserverx.com
END:VEVENT
BEGIN:VEVENT
DTSTART;TZID=America/Chicago:20230829T090000
DTEND;TZID=America/Chicago:20230829T160000
DTSTAMP:20260424T145819
CREATED:20230609T190225Z
LAST-MODIFIED:20230807T191835Z
UID:10000275-1693299600-1693324800@staging8.dynaserverx.com
SUMMARY:FAA Part 107 Remote Pilot Test Prep Course - This course will prepare you to pass the FAA 107 Drone Pilot Test! - Orlando\, FL
DESCRIPTION:Get your Drone License!\nLet Adjust U prepare you for FAA 107 Certification Test\nOver the last few years\, the usage of Drones has grown tremendously in multiple industries including real estate\, construction\, agriculture\, e-commerce\, utilities\, media\, and insurance. To fly a drone for any reason that is considered nonrecreational\, you must possess a FAA 107 license that demonstrates that you understand the regulations\, operating requirements\, and procedures for safely flying drones. Non-recreational purposes include things like taking photos to help sell a property or service\, roof inspections\, or taking pictures of a high school football game for the school’s website. The FAA and local governments can and have levied steep fines for individuals who are caught flying a drone for commercial purposes without a license. Let Adjust U prepare you to pass your FAA 107 certification test! Our FAA 107 Licensed Drone instructors are seasoned educators and will help you get your license with our 1 day in person course!\nSome of the topics covered in the course: \n\nThe interpretation of charts and weather reports\nUncontrolled and Controlled Airspace\nAirspace Designations\nWeather Patterns and effect on aircraft\nUnderstanding Load Factors\nCrew Resource Management\n\nand much more. The course includes hundreds of sample questions! \nHot summer deal! Only $129 (originally $175) \n 
URL:https://staging8.dynaserverx.com/adjust-u/event/faa-part-107-remote-pilot-test-prep-course-this-course-will-prepare-you-to-pass-the-faa-107-drone-pilot-test-orlando-fl-2/
LOCATION:Hyatt Place\, Lake Mary\, 1255 International Pkwy\, Lake Mary\, FL\, 32746\, United States
CATEGORIES:Drone FAA 107 Certification,Florida
END:VEVENT
BEGIN:VEVENT
DTSTART;TZID=America/Chicago:20230708T090000
DTEND;TZID=America/Chicago:20230708T160000
DTSTAMP:20260424T145819
CREATED:20230609T190035Z
LAST-MODIFIED:20230609T190035Z
UID:10000274-1688806800-1688832000@staging8.dynaserverx.com
SUMMARY:FAA Part 107 Remote Pilot Test Prep Course - This course will prepare you to pass the FAA 107 Drone Pilot Test! - Orlando\, FL
DESCRIPTION:Get your Drone License!\nLet Adjust U prepare you for FAA 107 Certification Test\nOver the last few years\, the usage of Drones has grown tremendously in multiple industries including real estate\, construction\, agriculture\, e-commerce\, utilities\, media\, and insurance. To fly a drone for any reason that is considered nonrecreational\, you must possess a FAA 107 license that demonstrates that you understand the regulations\, operating requirements\, and procedures for safely flying drones. Non-recreational purposes include things like taking photos to help sell a property or service\, roof inspections\, or taking pictures of a high school football game for the school’s website. The FAA and local governments can and have levied steep fines for individuals who are caught flying a drone for commercial purposes without a license. Let Adjust U prepare you to pass your FAA 107 certification test! Our FAA 107 Licensed Drone instructors are seasoned educators and will help you get your license with our 1 day in person course!\nSome of the topics covered in the course: \n\nThe interpretation of charts and weather reports\nUncontrolled and Controlled Airspace\nAirspace Designations\nWeather Patterns and effect on aircraft\nUnderstanding Load Factors\nCrew Resource Management\n\nand much more. The course includes hundreds of sample questions!
URL:https://staging8.dynaserverx.com/adjust-u/event/faa-part-107-remote-pilot-test-prep-course-this-course-will-prepare-you-to-pass-the-faa-107-drone-pilot-test-orlando-fl/
LOCATION:Hyatt Place\, Lake Mary\, 1255 International Pkwy\, Lake Mary\, FL\, 32746\, United States
CATEGORIES:Drone FAA 107 Certification,Florida
END:VEVENT
BEGIN:VEVENT
DTSTART;TZID=America/Chicago:20230706T080000
DTEND;TZID=America/Chicago:20230707T160000
DTSTAMP:20260424T145819
CREATED:20230609T185329Z
LAST-MODIFIED:20230630T185855Z
UID:10000273-1688630400-1688745600@staging8.dynaserverx.com
SUMMARY:X1 Xactimate: Beginner to Advanced - Orlando\, FL
DESCRIPTION:Proficiency in Xactimate is essential to most adjusters’ success. (Desk or Field). We have our Introduction to X1 class scheduled July 6-7\, 2023 in Orlando\, FL. Although the class will take you from the basics of X1\, don’t let the word Introduction in the title mislead you- even experienced users will benefit from the course. We limit our class size which allows us time to cover many advanced concepts of Xactimate. The course is taught by Xactware affiliate Level 3 certified trainer Jonathan Rice. Hope to see you in class! \nAL\, FL\, AND TX CE Credits available \nPrice of Course includes Xactimate’s Level 1 and Level 2 workbook. Hours of course are 8:00 – 4:00
URL:https://staging8.dynaserverx.com/adjust-u/event/x1-xactimate-beginner-to-advanced-orlando-fl-3/
LOCATION:Hyatt Place\, Lake Mary\, 1255 International Pkwy\, Lake Mary\, FL\, 32746\, United States
CATEGORIES:Florida,Xactimate
ATTACH;FMTTYPE=:
ORGANIZER;CN="Adjust-U":MAILTO:info@staging8.dynaserverx.com
END:VEVENT
BEGIN:VEVENT
DTSTART;TZID=America/Chicago:20230420T080000
DTEND;TZID=America/Chicago:20230421T160000
DTSTAMP:20260424T145819
CREATED:20230221T163851Z
LAST-MODIFIED:20230417T143629Z
UID:10000222-1681977600-1682092800@staging8.dynaserverx.com
SUMMARY:X1 Xactimate: Beginner to Advanced - Orlando\, FL
DESCRIPTION:Proficiency in Xactimate is essential to most adjusters’ success. (Desk or Field). We have our Introduction to X1 class scheduled April 20-21\, 2023 in Orlando\, FL. Although the class will take you from the basics of X1\, don’t let the word Introduction in the title mislead you- even experienced users will benefit from the course. We limit our class size which allows us time to cover many advanced concepts of Xactimate. The course is taught by Xactware affiliate Level 3 certified trainer Jonathan Rice. Hope to see you in class! \nAL\, FL\, AND TX CE Credits available \nPrice of Course includes Xactimate’s Level 1 and Level 2 workbook. Hours of course are 8:00 – 4:00
URL:https://staging8.dynaserverx.com/adjust-u/event/x1-xactimate-beginner-to-advanced-orlando-fl-2/
LOCATION:Hyatt Place\, Lake Mary\, 1255 International Pkwy\, Lake Mary\, FL\, 32746\, United States
CATEGORIES:Florida,Xactimate
ATTACH;FMTTYPE=:
ORGANIZER;CN="Adjust-U":MAILTO:info@staging8.dynaserverx.com
END:VEVENT
BEGIN:VEVENT
DTSTART;TZID=America/Chicago:20220816T130000
DTEND;TZID=America/Chicago:20220816T170000
DTSTAMP:20260424T145819
CREATED:20220808T200528Z
LAST-MODIFIED:20220808T200528Z
UID:10000183-1660654800-1660669200@staging8.dynaserverx.com
SUMMARY:X1 Proficiency Training - Orlando\, FL
DESCRIPTION:The Great Mid-America Roadshow is coming your way! On August 16\, Vice President Gene Strother and Director of Training Jonathan Rice will host an X1 Proficiency training course and a meet-and-greet\, complete with drinks and food. The meeting time is 1 PM – 5 PM. The two-hour Xactimate class with Level 3 Trainer Rice is 1-3\, and will include two Florida CE hours. \nJonathan Rice is one of the industry’s best trainers. You will benefit from his class. Gene Strother will bring you up to speed on the exciting things happening at Mid-America and share how to partner with one of the best IA firms in the nation for the coming storm season. \nThe cost for the class is just $29\, and includes the food and drink. We will host the event at the Hyatt Place Lake Mary/Orlando North at 1255 International Parkway\, Lake Mary 32746. Reserve your spot now!
URL:https://staging8.dynaserverx.com/adjust-u/event/x1-proficiency-training-orlando-fl/
LOCATION:Hyatt Place\, Lake Mary\, 1255 International Pkwy\, Lake Mary\, FL\, 32746\, United States
ORGANIZER;CN="Adjust-U":MAILTO:info@staging8.dynaserverx.com
END:VEVENT
END:VCALENDAR