BEGIN:VCALENDAR
VERSION:2.0
PRODID:-//Adjust U - ECPv6.3.7//NONSGML v1.0//EN
CALSCALE:GREGORIAN
METHOD:PUBLISH
X-ORIGINAL-URL:https://staging8.dynaserverx.com/adjust-u
X-WR-CALDESC:Events for Adjust U
REFRESH-INTERVAL;VALUE=DURATION:PT1H
X-Robots-Tag:noindex
X-PUBLISHED-TTL:PT1H
BEGIN:VTIMEZONE
TZID:America/Chicago
BEGIN:DAYLIGHT
TZOFFSETFROM:-0600
TZOFFSETTO:-0500
TZNAME:CDT
DTSTART:20220313T080000
END:DAYLIGHT
BEGIN:STANDARD
TZOFFSETFROM:-0500
TZOFFSETTO:-0600
TZNAME:CST
DTSTART:20221106T070000
END:STANDARD
BEGIN:DAYLIGHT
TZOFFSETFROM:-0600
TZOFFSETTO:-0500
TZNAME:CDT
DTSTART:20230312T080000
END:DAYLIGHT
BEGIN:STANDARD
TZOFFSETFROM:-0500
TZOFFSETTO:-0600
TZNAME:CST
DTSTART:20231105T070000
END:STANDARD
END:VTIMEZONE
BEGIN:VEVENT
DTSTART;TZID=America/Chicago:20230608T080000
DTEND;TZID=America/Chicago:20230609T160000
DTSTAMP:20260424T025627
CREATED:20230523T194037Z
LAST-MODIFIED:20230523T211739Z
UID:10000266-1686211200-1686326400@staging8.dynaserverx.com
SUMMARY:X1 Xactimate: Beginner to Advanced - Mobile\, AL
DESCRIPTION:Proficiency in Xactimate is essential to most adjusters’ success. (Desk or Field). We have our Introduction to X1 class scheduled June 8-9\, 2023 at our training facility in Mobile\, AL. Although the class will take you from the basics of X1\, don’t let the word Introduction in the title mislead you- even experienced users will benefit from the course. We limit our class size which allows us time to cover many advanced concepts of Xactimate. The course is taught by Xactware affiliate Level 3 certified trainer Jonathan Rice. Hope to see you in class! \nAL\, FL\, AND TX CE Credits available \nPrice of Course includes Xactimate’s Level 1 and Level 2 workbook. Hours of course are 8:00 – 4:00
URL:https://staging8.dynaserverx.com/adjust-u/event/x1-xactimate-beginner-to-advanced-mobile-al-6/
LOCATION:Mid-America Catastrophe Services –  Mobile\, AL Office\, 5550 Commerce Blvd. E.\, Mobile\, AL\, 36619+9204\, United States
CATEGORIES:Mobile, AL,Xactimate
ATTACH;FMTTYPE=:
ORGANIZER;CN="Adjust-U":MAILTO:info@staging8.dynaserverx.com
END:VEVENT
BEGIN:VEVENT
DTSTART;TZID=America/Chicago:20230510T090000
DTEND;TZID=America/Chicago:20230510T160000
DTSTAMP:20260424T025627
CREATED:20230411T144144Z
LAST-MODIFIED:20230411T144144Z
UID:10000259-1683709200-1683734400@staging8.dynaserverx.com
SUMMARY:FAA Part 107 Remote Pilot Test Prep Course"  - This course will prepare you to pass the FAA 107 Drone Pilot Test!  - Mobile\, AL
DESCRIPTION:Get your Drone License!\nLet Adjust U prepare you for FAA 107 Certification Test\nOver the last few years\, the usage of Drones has grown tremendously in multiple industries including real estate\, construction\, agriculture\, e-commerce\, utilities\, media\, and insurance. To fly a drone for any reason that is considered nonrecreational\, you must possess a FAA 107 license that demonstrates that you understand the regulations\, operating requirements\, and procedures for safely flying drones. Non-recreational purposes include things like taking photos to help sell a property or service\, roof inspections\, or taking pictures of a high school football game for the school’s website. The FAA and local governments can and have levied steep fines for individuals who are caught flying a drone for commercial purposes without a license. Let Adjust U prepare you to pass your FAA 107 certification test! Our FAA 107 Licensed Drone instructors are seasoned educators and will help you get your license with our 1 day in person course!\nSome of the topics covered in the course: \n\nThe interpretation of charts and weather reports\nUncontrolled and Controlled Airspace\nAirspace Designations\nWeather Patterns and effect on aircraft\nUnderstanding Load Factors\nCrew Resource Management\n\nand much more. The course includes hundreds of sample questions! \nWe are offering a Grand Opening Special of only 125.00- (Regular Price 175.00)
URL:https://staging8.dynaserverx.com/adjust-u/event/faa-part-107-remote-pilot-test-prep-course-this-course-will-prepare-you-to-pass-the-faa-107-drone-pilot-test-mobile-al/
LOCATION:Mid-America Catastrophe Services –  Mobile\, AL Office\, 5550 Commerce Blvd. E.\, Mobile\, AL\, 36619+9204\, United States
CATEGORIES:Drone FAA 107 Certification,Mobile, AL
END:VEVENT
BEGIN:VEVENT
DTSTART;TZID=America/Chicago:20230414T080000
DTEND;TZID=America/Chicago:20230415T160000
DTSTAMP:20260424T025627
CREATED:20220831T163406Z
LAST-MODIFIED:20230413T191920Z
UID:10000204-1681459200-1681574400@staging8.dynaserverx.com
SUMMARY:X1 Xactimate: Beginner to Advanced - Mobile\, AL
DESCRIPTION:Proficiency in Xactimate is essential to most adjusters’ success. (Desk or Field). We have our Introduction to X1 class scheduled April 14-15\, 2023 at our training facility in Mobile\, AL. Although the class will take you from the basics of X1\, don’t let the word Introduction in the title mislead you- even experienced users will benefit from the course. We limit our class size which allows us time to cover many advanced concepts of Xactimate. The course is taught by Xactware affiliate Level 3 certified trainer Jonathan Rice. Hope to see you in class! \nAL\, FL\, AND TX CE Credits available \nPrice of Course includes Xactimate’s Level 1 and Level 2 workbook. Hours of course are 8:00 – 4:00
URL:https://staging8.dynaserverx.com/adjust-u/event/x1-xactimate-beginner-to-advanced-mobile-al-4/
LOCATION:Mid-America Catastrophe Services –  Mobile\, AL Office\, 5550 Commerce Blvd. E.\, Mobile\, AL\, 36619+9204\, United States
CATEGORIES:Mobile, AL,Xactimate
ATTACH;FMTTYPE=:
ORGANIZER;CN="Adjust-U":MAILTO:info@staging8.dynaserverx.com
END:VEVENT
BEGIN:VEVENT
DTSTART;TZID=America/Chicago:20230303T090000
DTEND;TZID=America/Chicago:20230303T150000
DTSTAMP:20260424T025627
CREATED:20220831T144946Z
LAST-MODIFIED:20230327T131307Z
UID:10000196-1677834000-1677855600@staging8.dynaserverx.com
SUMMARY:Putting the Puzzle Together - Packaging and Sending Claims- Mobile\, AL
DESCRIPTION:Bring Laptop downloaded with latest version of X1 to class. \nYou received your adjuster license\, you’ve learned Xactimate- Now what? One of the main struggles a new adjuster faces on their first deployment(s) is putting everything together. A claim is much more than just the Xactimate estimate- it is a package of documents you send the insurance carrier to justify the claim. This can include a Narrative (Sometimes referred to a GLR\, Final Report\, or First and Final)\, Billing (Either thru Xactimate or added documents)\, ITV (Insured to Value) Reports\, Photo Reports\, and much more. In addition\, the file must be documented throughout the life of a claim -if you do not document\, it did not happen. In addition to all of this\, we still must apply the estimate to policy.\nThis course will take you through the process of writing and packaging a claim from A to Z.\nAdditional Topics to be covered\n• Report Macros (Creating and Using)\n• Importing Tokened Documents\n• Importing/Exporting ESX files\n• Using Xactanalysis\n• Developing a routine\nA must have class for the new and/or inexperienced adjuster that would like to prepare for success for their first or next deployment! \n\n\n\nInstructions\n\nPlease contact jonathan@staging8.dynaserverx.com with any questions. \nClass Time is 9:00 – 3:00 PM.
URL:https://staging8.dynaserverx.com/adjust-u/event/putting-the-puzzle-together-packaging-and-sending-claims-2/
LOCATION:Mid-America Catastrophe Services –  Mobile\, AL Office\, 5550 Commerce Blvd. E.\, Mobile\, AL\, 36619+9204\, United States
CATEGORIES:Dallas, TX,Putting the Puzzle Together
ATTACH;FMTTYPE=:
ORGANIZER;CN="Adjust-U":MAILTO:info@staging8.dynaserverx.com
END:VEVENT
BEGIN:VEVENT
DTSTART;TZID=America/Chicago:20230214T090000
DTEND;TZID=America/Chicago:20230214T150000
DTSTAMP:20260424T025627
CREATED:20220831T154237Z
LAST-MODIFIED:20230327T131335Z
UID:10000202-1676365200-1676386800@staging8.dynaserverx.com
SUMMARY:Intro to Desk Adjusting - Mobile\, AL
DESCRIPTION:This course will introduce you to the skillsets needed to work as a Desk Adjuster. The class will focus on interpretation of policies and endorsements\, How to read a Declaration page\, the different software used as a Desk Adjuster (Xactimate\, Xactanalysis\, etc.)\, Various Carrier Guidelines\, and much more. Students will be able test their skills on mock estimates to see if maybe Desk Adjusting is the right path for them!
URL:https://staging8.dynaserverx.com/adjust-u/event/intro-to-desk-adjusting-mobile-al/
LOCATION:Mid-America Catastrophe Services –  Mobile\, AL Office\, 5550 Commerce Blvd. E.\, Mobile\, AL\, 36619+9204\, United States
CATEGORIES:Dallas, TX
ATTACH;FMTTYPE=:
ORGANIZER;CN="Adjust-U":MAILTO:info@staging8.dynaserverx.com
END:VEVENT
BEGIN:VEVENT
DTSTART;TZID=America/Chicago:20230209T080000
DTEND;TZID=America/Chicago:20230210T160000
DTSTAMP:20260424T025627
CREATED:20220831T162625Z
LAST-MODIFIED:20230327T131352Z
UID:10000203-1675929600-1676044800@staging8.dynaserverx.com
SUMMARY:X1 Xactimate: Beginner to Advanced - Mobile\, AL
DESCRIPTION:Proficiency in Xactimate is essential to most adjusters’ success. (Desk or Field). We have our Introduction to X1 class scheduled February 9-10\, 2023 at our training facility in Mobile\, AL. Although the class will take you from the basics of X1\, don’t let the word Introduction in the title mislead you- even experienced users will benefit from the course. We limit our class size which allows us time to cover many advanced concepts of Xactimate. The course is taught by Xactware affiliate Level 3 certified trainer Jonathan Rice. Hope to see you in class! \nAL\, FL\, AND TX CE Credits available \nPrice of Course includes Xactimate’s Level 1 and Level 2 workbook. Hours of course are 8:00 – 4:00
URL:https://staging8.dynaserverx.com/adjust-u/event/x1-xactimate-beginner-to-advanced-mobile-al-3/
LOCATION:Mid-America Catastrophe Services –  Mobile\, AL Office\, 5550 Commerce Blvd. E.\, Mobile\, AL\, 36619+9204\, United States
CATEGORIES:Dallas, TX
ATTACH;FMTTYPE=:
ORGANIZER;CN="Adjust-U":MAILTO:info@staging8.dynaserverx.com
END:VEVENT
BEGIN:VEVENT
DTSTART;VALUE=DATE:20220908
DTEND;VALUE=DATE:20220910
DTSTAMP:20260424T025627
CREATED:20220628T133900Z
LAST-MODIFIED:20230327T131645Z
UID:10000178-1662595200-1662767999@staging8.dynaserverx.com
SUMMARY:X1 Xactimate: Beginner to Advanced - Mobile\, AL
DESCRIPTION:Proficiency in Xactimate is essential to most adjusters’ success. (Desk or Field). We have our Introduction to X1 class scheduled September 8-9\, 2022 at our training facility in Mobile\, AL. Although the class will take you from the basics of X1\, don’t let the word Introduction in the title mislead you- even experienced users will benefit from the course. We limit our class size which allows us time to cover many advanced concepts of Xactimate. The course is taught by Xactware affiliate Level 3 certified trainer Jonathan Rice. Hope to see you in class! \nAL\, FL\, AND TX CE Credits available \nPrice of Course includes Xactimate’s Level 1 and Level 2 workbook. Hours of course are 8:00 – 4:00
URL:https://staging8.dynaserverx.com/adjust-u/event/x1-xactimate-beginner-to-advanced-mobile-al-2/
LOCATION:Mid-America Catastrophe Services –  Mobile\, AL Office\, 5550 Commerce Blvd. E.\, Mobile\, AL\, 36619+9204\, United States
CATEGORIES:Mobile, AL
ATTACH;FMTTYPE=:
ORGANIZER;CN="Adjust-U":MAILTO:info@staging8.dynaserverx.com
END:VEVENT
BEGIN:VEVENT
DTSTART;TZID=America/Chicago:20220728T090000
DTEND;TZID=America/Chicago:20220728T160000
DTSTAMP:20260424T025627
CREATED:20220628T131740Z
LAST-MODIFIED:20230327T131757Z
UID:10000174-1658998800-1659024000@staging8.dynaserverx.com
SUMMARY:Putting the Puzzle Together - Packaging and Sending Claims- Mobile\, AL
DESCRIPTION:You received your adjuster license\, you’ve learned Xactimate- Now what? One of the main struggles a new adjuster faces on their first deployment(s) is putting everything together. A claim is much more than just the Xactimate estimate- it is a package of documents you send the insurance carrier to justify the claim. This can include a Narrative (Sometimes referred to a GLR\, Final Report\, or First and Final)\, Billing (Either thru Xactimate or added documents)\, ITV (Insured to Value) Reports\, Photo Reports\, and much more. In addition\, the file must be documented throughout the life of a claim -if you do not document\, it did not happen. In addition to all of this\, we still must apply the estimate to policy.\nThis course will take you through the process of writing and packaging a claim from A to Z.\nAdditional Topics to be covered\n• Report Macros (Creating and Using)\n• Importing Tokened Documents\n• Importing/Exporting ESX files\n• Using Xactanalysis\n• Developing a routine\nA must have class for the new and/or inexperienced adjuster that would like to prepare for success for their first or next deployment!
URL:https://staging8.dynaserverx.com/adjust-u/event/putting-the-puzzle-together-packaging-and-sending-claims-mobile-al/
LOCATION:Mid-America Catastrophe Services –  Mobile\, AL Office\, 5550 Commerce Blvd. E.\, Mobile\, AL\, 36619+9204\, United States
CATEGORIES:Mobile, AL
ATTACH;FMTTYPE=:
ORGANIZER;CN="Adjust-U":MAILTO:info@staging8.dynaserverx.com
END:VEVENT
BEGIN:VEVENT
DTSTART;TZID=America/Chicago:20220727T090000
DTEND;TZID=America/Chicago:20220727T160000
DTSTAMP:20260424T025627
CREATED:20220628T131535Z
LAST-MODIFIED:20230327T131811Z
UID:10000173-1658912400-1658937600@staging8.dynaserverx.com
SUMMARY:Introduction to Desk Adjusting- Mobile\, AL
DESCRIPTION:This course will introduce you to the skillsets needed to work as a Desk Adjuster. The class will focus on interpretation of policies and endorsements\, how to read a Declaration page\, the different software used as a Desk Adjuster (Xactimate\, Xactanalysis\, etc.)\, Various Carrier Guidelines\, and much more. The course will include an H0-A\, HO-B\, and HO-3 to help students to learn to differentiate between policy types. \nPlease contact info@staging8.dynaserverx.com with any questions.
URL:https://staging8.dynaserverx.com/adjust-u/event/introduction-to-desk-adjusting-mobile-al/
LOCATION:Mid-America Catastrophe Services –  Mobile\, AL Office\, 5550 Commerce Blvd. E.\, Mobile\, AL\, 36619+9204\, United States
CATEGORIES:Mobile, AL
ORGANIZER;CN="Adjust-U":MAILTO:info@staging8.dynaserverx.com
END:VEVENT
BEGIN:VEVENT
DTSTART;TZID=America/Chicago:20220725T080000
DTEND;TZID=America/Chicago:20220726T160000
DTSTAMP:20260424T025627
CREATED:20220627T215712Z
LAST-MODIFIED:20230327T131821Z
UID:10000172-1658736000-1658851200@staging8.dynaserverx.com
SUMMARY:X1 Xactimate: Beginner to Advanced - Mobile\, AL
DESCRIPTION:Proficiency in Xactimate is essential to most adjusters’ success. (Desk or Field). We have our Introduction to X1 class scheduled June 10/11 at our training facility in Mobile\, AL. Although the class will take you from the basics of X1\, don’t let the word Introduction in the title mislead you- even experienced users will benefit from the course. We limit our class size which allows us time to cover many advanced concepts of Xactimate. The course is taught by Xactware affiliate Level 3 certified trainer Jonathan Rice. Hope to see you in class! \nAL\, FL\, AND TX CE Credits available \nCourse includes Xactimate’s Level 1 and Level 2 workbook. Hours of course are 8:00 – 4:00
URL:https://staging8.dynaserverx.com/adjust-u/event/x1-xactimate-beginner-to-advanced-mobile-al/
LOCATION:Mid-America Catastrophe Services –  Mobile\, AL Office\, 5550 Commerce Blvd. E.\, Mobile\, AL\, 36619+9204\, United States
CATEGORIES:Mobile, AL
ATTACH;FMTTYPE=:
ORGANIZER;CN="Adjust-U":MAILTO:info@staging8.dynaserverx.com
END:VEVENT
BEGIN:VEVENT
DTSTART;TZID=America/Chicago:20220711T080000
DTEND;TZID=America/Chicago:20220711T150000
DTSTAMP:20260424T025627
CREATED:20220627T204804Z
LAST-MODIFIED:20230327T131900Z
UID:10000169-1657526400-1657551600@staging8.dynaserverx.com
SUMMARY:Advanced Sketch and TWIA Certification Course - Mobile\, AL
DESCRIPTION:Get TWIA certified with Adjust-U PLUS a 1-Hour advanced sketch class with Jonathan Rice. You MUST have a current adjuster’s license and two years of experience.
URL:https://staging8.dynaserverx.com/adjust-u/event/advanced-sketch-and-twia-certification-course-dallas-tx-2/
LOCATION:Mid-America Catastrophe Services –  Mobile\, AL Office\, 5550 Commerce Blvd. E.\, Mobile\, AL\, 36619+9204\, United States
CATEGORIES:Mobile, AL
ATTACH;FMTTYPE=:
ORGANIZER;CN="Adjust-U":MAILTO:info@staging8.dynaserverx.com
END:VEVENT
END:VCALENDAR